BEGIN:VCALENDAR
VERSION:2.0
PRODID:-//ChurchDev//Events//EN
CALSCALE:GREGORIAN
METHOD:PUBLISH
BEGIN:VEVENT
UID:3106-20160627@www.bethelamepensacola.org
SUMMARY:Vacation Bible School  6pm -8pm
DTSTART:20160627T220000Z
DTEND:20160628T000000Z
DESCRIPTION:https://www.bethelamepensacola.org/events/vacation-bible-school/
URL:https://www.bethelamepensacola.org/events/vacation-bible-school/
DTSTAMP:20260419T224439Z
END:VEVENT
END:VCALENDAR
