BEGIN:VCALENDAR
VERSION:2.0
PRODID:-//ChurchDev//Events//EN
CALSCALE:GREGORIAN
METHOD:PUBLISH
BEGIN:VEVENT
UID:3127-20160608@www.bethelamepensacola.org
SUMMARY:Church School Convention
DTSTART;VALUE=DATE:20160608
DTEND;VALUE=DATE:20160609
DESCRIPTION:https://www.bethelamepensacola.org/events/church-school-convention/
URL:https://www.bethelamepensacola.org/events/church-school-convention/
DTSTAMP:20260419T224443Z
END:VEVENT
END:VCALENDAR
