BEGIN:VCALENDAR
VERSION:2.0
PRODID:-//ChurchDev//Events//EN
CALSCALE:GREGORIAN
METHOD:PUBLISH
BEGIN:VEVENT
UID:3131-20160707@www.bethelamepensacola.org
SUMMARY:Intercessory Prayer Meeting &#8211\; 6pm
DTSTART:20160707T220000Z
DTEND:20160707T230000Z
DESCRIPTION:https://www.bethelamepensacola.org/events/intercessory-prayer-meeting/
LOCATION:511 Woodland Drive\, Pensacola\, FL 32503
URL:https://www.bethelamepensacola.org/events/intercessory-prayer-meeting/
DTSTAMP:20260419T224442Z
END:VEVENT
END:VCALENDAR
