BEGIN:VCALENDAR
VERSION:2.0
PRODID:-//ChurchDev//Events//EN
CALSCALE:GREGORIAN
METHOD:PUBLISH
BEGIN:VEVENT
UID:3162-20160528@www.bethelamepensacola.org
SUMMARY:Bethel Day in the Park
DTSTART:20160528T140000Z
DTEND:20160528T180000Z
DESCRIPTION:https://www.bethelamepensacola.org/events/bethel-day-in-the-park/
LOCATION:511 Woodland Drive\, Pensacola\, FL 32503
URL:https://www.bethelamepensacola.org/events/bethel-day-in-the-park/
DTSTAMP:20260419T224443Z
END:VEVENT
END:VCALENDAR
