BEGIN:VCALENDAR
VERSION:2.0
PRODID:-//ChurchDev//Events//EN
CALSCALE:GREGORIAN
METHOD:PUBLISH
BEGIN:VEVENT
UID:3182-20160626@www.bethelamepensacola.org
SUMMARY:YPD &#8211\; Feed the Hungry &#8211\; 3pm
DTSTART:20160626T190000Z
DTEND:20160626T200000Z
DESCRIPTION:https://www.bethelamepensacola.org/events/ypd-feed-the-hungry-3pm/
URL:https://www.bethelamepensacola.org/events/ypd-feed-the-hungry-3pm/
DTSTAMP:20260419T224441Z
END:VEVENT
END:VCALENDAR
