BEGIN:VCALENDAR
VERSION:2.0
PRODID:-//ChurchDev//Events//EN
CALSCALE:GREGORIAN
METHOD:PUBLISH
BEGIN:VEVENT
UID:3897-20200825@www.bethelamepensacola.org
SUMMARY:Sr. Tues. Ministry in Person or Teleconference Bible Study 1-617-793-8845
DTSTART:20200825T150000Z
DTEND:20200825T180000Z
DESCRIPTION:Prayer\, Bible Study\, Lunch and Bingo\\n\\nhttps://www.bethelamepensacola.org/events/senior-tuesday-ministry/
URL:https://www.bethelamepensacola.org/events/senior-tuesday-ministry/
DTSTAMP:20260419T224438Z
END:VEVENT
END:VCALENDAR
